BEGIN:VCALENDAR
VERSION:2.0
PRODID:-//laurentstephan.fr - ECPv6.15.20//NONSGML v1.0//EN
CALSCALE:GREGORIAN
METHOD:PUBLISH
X-WR-CALNAME:laurentstephan.fr
X-ORIGINAL-URL:https://laurentstephan.fr
X-WR-CALDESC:Évènements pour laurentstephan.fr
REFRESH-INTERVAL;VALUE=DURATION:PT1H
X-Robots-Tag:noindex
X-PUBLISHED-TTL:PT1H
BEGIN:VTIMEZONE
TZID:Europe/Paris
BEGIN:DAYLIGHT
TZOFFSETFROM:+0100
TZOFFSETTO:+0200
TZNAME:CEST
DTSTART:20250330T010000
END:DAYLIGHT
BEGIN:STANDARD
TZOFFSETFROM:+0200
TZOFFSETTO:+0100
TZNAME:CET
DTSTART:20251026T010000
END:STANDARD
BEGIN:DAYLIGHT
TZOFFSETFROM:+0100
TZOFFSETTO:+0200
TZNAME:CEST
DTSTART:20260329T010000
END:DAYLIGHT
BEGIN:STANDARD
TZOFFSETFROM:+0200
TZOFFSETTO:+0100
TZNAME:CET
DTSTART:20261025T010000
END:STANDARD
BEGIN:DAYLIGHT
TZOFFSETFROM:+0100
TZOFFSETTO:+0200
TZNAME:CEST
DTSTART:20270328T010000
END:DAYLIGHT
BEGIN:STANDARD
TZOFFSETFROM:+0200
TZOFFSETTO:+0100
TZNAME:CET
DTSTART:20271031T010000
END:STANDARD
END:VTIMEZONE
BEGIN:VEVENT
DTSTART;VALUE=DATE:20260510
DTEND;VALUE=DATE:20260511
DTSTAMP:20260425T182109
CREATED:20251127T114727Z
LAST-MODIFIED:20251222T093333Z
UID:2572-1778371200-1778457599@laurentstephan.fr
SUMMARY:Stage "Chant géorgien"
DESCRIPTION:Atelier de 4 heures animé par Laurent Stéphan \n 
URL:https://laurentstephan.fr/calendrier/chant-georgien-2/
LOCATION:Hanovre\, Allemagne\, Alte Grammophonfabrik\, Edwin-Oppler-Weg 5\, 30167
ORGANIZER;CN="Laurent St%C3%A9phan":MAILTO:laurent_stephan@yahoo.fr
END:VEVENT
BEGIN:VEVENT
DTSTART;VALUE=DATE:20260514
DTEND;VALUE=DATE:20260518
DTSTAMP:20260425T182109
CREATED:20251127T115006Z
LAST-MODIFIED:20251222T093420Z
UID:2575-1778716800-1779062399@laurentstephan.fr
SUMMARY:Stage « My voice »
DESCRIPTION:Enseignement : Laurent Stéphan avec Edda Heeg
URL:https://laurentstephan.fr/calendrier/my-voice-2/
LOCATION:Hanovre\, Allemagne\, Alte Grammophonfabrik\, Edwin-Oppler-Weg 5\, 30167
ORGANIZER;CN="Laurent St%C3%A9phan":MAILTO:laurent_stephan@yahoo.fr
END:VEVENT
BEGIN:VEVENT
DTSTART;TZID=Europe/Paris:20260530T140000
DTEND;TZID=Europe/Paris:20260531T163000
DTSTAMP:20260425T182109
CREATED:20260313T091510Z
LAST-MODIFIED:20260313T091510Z
UID:2974-1780149600-1780245000@laurentstephan.fr
SUMMARY:Stage de WE "La voix enracinée"
DESCRIPTION:Enseignement : Laurent Stéphan
URL:https://laurentstephan.fr/calendrier/stage-de-we-la-voix-enracinee-2/
LOCATION:Thoiras-Corbès\, Château de Malérargues\, 258 Malérargues\, 30140\, France
END:VEVENT
BEGIN:VEVENT
DTSTART;VALUE=DATE:20260706
DTEND;VALUE=DATE:20260711
DTSTAMP:20260425T182109
CREATED:20251127T115217Z
LAST-MODIFIED:20251222T093657Z
UID:2577-1783296000-1783727999@laurentstephan.fr
SUMMARY:Stage "La voix vivante"
DESCRIPTION:Enseignement : Laurent Stéphan avec Edda Heeg / À 5 km de Saillans (Drôme)
URL:https://laurentstephan.fr/calendrier/stage-a-venir/
LOCATION:Saillants\, Gîte des Baconnets\, 38650\, France
ORGANIZER;CN="Laurent St%C3%A9phan":MAILTO:laurent_stephan@yahoo.fr
END:VEVENT
BEGIN:VEVENT
DTSTART;VALUE=DATE:20260721
DTEND;VALUE=DATE:20260727
DTSTAMP:20260425T182109
CREATED:20251127T115445Z
LAST-MODIFIED:20251222T094019Z
UID:2581-1784592000-1785110399@laurentstephan.fr
SUMMARY:Stage « Donner voix à mon corps\, donner corps à ma voix »
DESCRIPTION:Enseignement : Laurent Stéphan avec Walli Hoefinger et Jesùs Muñoz. \n 
URL:https://laurentstephan.fr/calendrier/stage-donner-voix-a-mon-corps-donner-corps-a-ma-voix/
LOCATION:Thoiras-Corbès\, Château de Malérargues\, 258 Malérargues\, 30140\, France
ORGANIZER;CN="Laurent St%C3%A9phan":MAILTO:laurent_stephan@yahoo.fr
END:VEVENT
BEGIN:VEVENT
DTSTART;VALUE=DATE:20260818
DTEND;VALUE=DATE:20260824
DTSTAMP:20260425T182109
CREATED:20251127T115614Z
LAST-MODIFIED:20251222T094011Z
UID:2583-1787011200-1787529599@laurentstephan.fr
SUMMARY:Stage « Voix humaine »
DESCRIPTION:Enseignement : Laurent Stéphan avec Daniela Castro.
URL:https://laurentstephan.fr/calendrier/stage-voix-humaine/
LOCATION:Thoiras-Corbès\, Château de Malérargues\, 258 Malérargues\, 30140\, France
ORGANIZER;CN="Laurent St%C3%A9phan":MAILTO:laurent_stephan@yahoo.fr
END:VEVENT
BEGIN:VEVENT
DTSTART;VALUE=DATE:20260909
DTEND;VALUE=DATE:20260920
DTSTAMP:20260425T182109
CREATED:20260118T105638Z
LAST-MODIFIED:20260118T105638Z
UID:2876-1788912000-1789862399@laurentstephan.fr
SUMMARY:Stage "APG" (Advanced Pedagogic Group)
DESCRIPTION:(groupe fermé) \nEnseignement : Laurent Stéphan avec Saule Ryan\, Carol Mendelsohn et Edda Heeg
URL:https://laurentstephan.fr/calendrier/stage-apg-advanced-pedagogic-group/
LOCATION:Thoiras-Corbès\, Château de Malérargues\, 258 Malérargues\, 30140\, France
END:VEVENT
BEGIN:VEVENT
DTSTART;TZID=Europe/Paris:20261123T093000
DTEND;TZID=Europe/Paris:20261128T163000
DTSTAMP:20260425T182109
CREATED:20260314T105044Z
LAST-MODIFIED:20260314T105044Z
UID:2976-1795426200-1795883400@laurentstephan.fr
SUMMARY:Stage "La voix\, espèce en voie d'apparition"
DESCRIPTION:Dans un beau château\, en Limousin. \nFinancement AFDAS ou autre OPCO possible. \nEnseignement donné par Laurent Stéphan\, Pascale Ben et Olivier Philippson.
URL:https://laurentstephan.fr/calendrier/stage-la-voix-espece-en-voie-dapparition/
LOCATION:Le Vigen\, Château de Ligoure\, 87205\, France
END:VEVENT
END:VCALENDAR