BEGIN:VCALENDAR
VERSION:2.0
PRODID:-//laurentstephan.fr - ECPv6.15.20//NONSGML v1.0//EN
CALSCALE:GREGORIAN
METHOD:PUBLISH
X-ORIGINAL-URL:https://laurentstephan.fr
X-WR-CALDESC:Évènements pour laurentstephan.fr
REFRESH-INTERVAL;VALUE=DURATION:PT1H
X-Robots-Tag:noindex
X-PUBLISHED-TTL:PT1H
BEGIN:VTIMEZONE
TZID:Europe/Paris
BEGIN:DAYLIGHT
TZOFFSETFROM:+0100
TZOFFSETTO:+0200
TZNAME:CEST
DTSTART:20240331T010000
END:DAYLIGHT
BEGIN:STANDARD
TZOFFSETFROM:+0200
TZOFFSETTO:+0100
TZNAME:CET
DTSTART:20241027T010000
END:STANDARD
BEGIN:DAYLIGHT
TZOFFSETFROM:+0100
TZOFFSETTO:+0200
TZNAME:CEST
DTSTART:20250330T010000
END:DAYLIGHT
BEGIN:STANDARD
TZOFFSETFROM:+0200
TZOFFSETTO:+0100
TZNAME:CET
DTSTART:20251026T010000
END:STANDARD
BEGIN:DAYLIGHT
TZOFFSETFROM:+0100
TZOFFSETTO:+0200
TZNAME:CEST
DTSTART:20260329T010000
END:DAYLIGHT
BEGIN:STANDARD
TZOFFSETFROM:+0200
TZOFFSETTO:+0100
TZNAME:CET
DTSTART:20261025T010000
END:STANDARD
BEGIN:DAYLIGHT
TZOFFSETFROM:+0100
TZOFFSETTO:+0200
TZNAME:CEST
DTSTART:20270328T010000
END:DAYLIGHT
BEGIN:STANDARD
TZOFFSETFROM:+0200
TZOFFSETTO:+0100
TZNAME:CET
DTSTART:20271031T010000
END:STANDARD
END:VTIMEZONE
BEGIN:VEVENT
DTSTART;VALUE=DATE:20260325
DTEND;VALUE=DATE:20260405
DTSTAMP:20260425T213823
CREATED:20251127T113942Z
LAST-MODIFIED:20260118T105056Z
UID:2568-1774396800-1775347199@laurentstephan.fr
SUMMARY:Stage "APG" (Advanced Pedagogic Group)
DESCRIPTION:(groupe fermé) \nEnseignement : Laurent Stéphan avec Saule Ryan\, Carol Mendelsohn et Edda Heeg
URL:https://laurentstephan.fr/calendrier/satge-apg-advanced-pedagogic-group/
LOCATION:Thoiras-Corbès\, Château de Malérargues\, 258 Malérargues\, 30140\, France
ORGANIZER;CN="Laurent St%C3%A9phan":MAILTO:laurent_stephan@yahoo.fr
END:VEVENT
BEGIN:VEVENT
DTSTART;TZID=Europe/Paris:20260321T140000
DTEND;TZID=Europe/Paris:20260322T163000
DTSTAMP:20260425T213823
CREATED:20260313T090644Z
LAST-MODIFIED:20260313T090644Z
UID:2968-1774101600-1774197000@laurentstephan.fr
SUMMARY:Stage de WE "La voix enracinée"
DESCRIPTION:Enseignement : Laurent Stéphan
URL:https://laurentstephan.fr/calendrier/stage-de-we-la-voix-enracinee/
LOCATION:Thoiras-Corbès\, Château de Malérargues\, 258 Malérargues\, 30140\, France
END:VEVENT
BEGIN:VEVENT
DTSTART;VALUE=DATE:20260131
DTEND;VALUE=DATE:20260202
DTSTAMP:20260425T213823
CREATED:20251127T113651Z
LAST-MODIFIED:20260118T104836Z
UID:2566-1769817600-1769990399@laurentstephan.fr
SUMMARY:Stage « Corps et voix vibrants »
DESCRIPTION:Enseignement : Laurent Stéphan avec Véronique Thomas \n 
URL:https://laurentstephan.fr/calendrier/corps-et-voix-vibrants-3/
LOCATION:Rennes\, MJC Le Grand Cordel ; 18\, rue des Plantes\, 35000\, France
ORGANIZER;CN="Laurent St%C3%A9phan":MAILTO:laurent_stephan@yahoo.fr
END:VEVENT
BEGIN:VEVENT
DTSTART;VALUE=DATE:20251227
DTEND;VALUE=DATE:20260102
DTSTAMP:20260425T213823
CREATED:20251127T113353Z
LAST-MODIFIED:20251222T094230Z
UID:2560-1766793600-1767311999@laurentstephan.fr
SUMMARY:Stage « Chant géorgien et approches corporelles et vocales »
DESCRIPTION:Dirigé par Laurent STEPHAN et Zoé PERRET \n  \n 
URL:https://laurentstephan.fr/calendrier/chant-georgien-et-approches-corporelles-et-vocales/
LOCATION:Thoiras-Corbès\, Château de Malérargues\, 258 Malérargues\, 30140\, France
ORGANIZER;CN="Laurent St%C3%A9phan":MAILTO:laurent_stephan@yahoo.fr
END:VEVENT
BEGIN:VEVENT
DTSTART;VALUE=DATE:20251126
DTEND;VALUE=DATE:20251201
DTSTAMP:20260425T213823
CREATED:20251124T115614Z
LAST-MODIFIED:20251222T094221Z
UID:2543-1764115200-1764547199@laurentstephan.fr
SUMMARY:Stage "La Voix enracinée"
DESCRIPTION:(près de Colmar\, en Alsace)
URL:https://laurentstephan.fr/calendrier/la-voix-enracinee/
LOCATION:Soultzbach-les-bains\, 68316\, France
ORGANIZER;CN="Laurent St%C3%A9phan":MAILTO:laurent_stephan@yahoo.fr
END:VEVENT
BEGIN:VEVENT
DTSTART;VALUE=DATE:20251113
DTEND;VALUE=DATE:20251119
DTSTAMP:20260425T213823
CREATED:20251124T120610Z
LAST-MODIFIED:20251222T094214Z
UID:2552-1762992000-1763510399@laurentstephan.fr
SUMMARY:Stage « La voix\, espèce en voie d’apparition »
DESCRIPTION:Stage professionnel\, financement par l’AFDAS en conventionnement individuel (ou autre OPCO\, suivant votre situation)\nEnseignement avec Pascale Ben et Olivier Philippson
URL:https://laurentstephan.fr/calendrier/la-voix-espece-en-voie-dapparition-2/
LOCATION:Le Vigen\, Château de Ligoure\, 87205\, France
ORGANIZER;CN="Laurent St%C3%A9phan":MAILTO:laurent_stephan@yahoo.fr
END:VEVENT
BEGIN:VEVENT
DTSTART;VALUE=DATE:20251101
DTEND;VALUE=DATE:20251103
DTSTAMP:20260425T213823
CREATED:20251124T120253Z
LAST-MODIFIED:20251222T094207Z
UID:2549-1761955200-1762127999@laurentstephan.fr
SUMMARY:Stage « Corps et voix vibrants » 
DESCRIPTION:Enseignement : Laurent Stéphan avec Véronique Thomas
URL:https://laurentstephan.fr/calendrier/corps-et-voix-vibrants-2/
LOCATION:Rennes\, MJC Le Grand Cordel ; 18\, rue des Plantes\, 35000\, France
ORGANIZER;CN="Laurent St%C3%A9phan":MAILTO:laurent_stephan@yahoo.fr
END:VEVENT
BEGIN:VEVENT
DTSTART;VALUE=DATE:20250822
DTEND;VALUE=DATE:20250828
DTSTAMP:20260425T213823
CREATED:20250613T204853Z
LAST-MODIFIED:20251127T120212Z
UID:2197-1755820800-1756339199@laurentstephan.fr
SUMMARY:Satge "Donner voix à mon corps\, donner corps à ma voix"
DESCRIPTION:Enseignement avec JesùsMuñoz et Walli Hoefinger
URL:https://laurentstephan.fr/calendrier/donner-voix-a-mon-corps-donner-corps-a-ma-voix/
LOCATION:Thoiras-Corbès\, Château de Malérargues\, 258 Malérargues\, 30140\, France
ORGANIZER;CN="Laurent St%C3%A9phan":MAILTO:laurent_stephan@yahoo.fr
END:VEVENT
BEGIN:VEVENT
DTSTART;VALUE=DATE:20250819
DTEND;VALUE=DATE:20250825
DTSTAMP:20260425T213823
CREATED:20250613T205149Z
LAST-MODIFIED:20251127T120349Z
UID:2199-1755561600-1756079999@laurentstephan.fr
SUMMARY:Stage "Voix humaine"
DESCRIPTION:Enseignement avec Daniela Castro \n 
URL:https://laurentstephan.fr/calendrier/voix-humaine/
LOCATION:Thoiras-Corbès\, Château de Malérargues\, 258 Malérargues\, 30140\, France
ORGANIZER;CN="Laurent St%C3%A9phan":MAILTO:laurent_stephan@yahoo.fr
END:VEVENT
BEGIN:VEVENT
DTSTART;VALUE=DATE:20250529
DTEND;VALUE=DATE:20250602
DTSTAMP:20260425T213823
CREATED:20250613T204529Z
LAST-MODIFIED:20251127T120046Z
UID:2195-1748476800-1748822399@laurentstephan.fr
SUMMARY:Satge "My Voice"
DESCRIPTION:Enseignement avec Edda Heeg
URL:https://laurentstephan.fr/calendrier/my-voice/
LOCATION:Hanovre\, Allemagne\, Alte Grammophonfabrik\, Edwin-Oppler-Weg 5\, 30167
ORGANIZER;CN="Laurent St%C3%A9phan":MAILTO:laurent_stephan@yahoo.fr
END:VEVENT
BEGIN:VEVENT
DTSTART;VALUE=DATE:20250525
DTEND;VALUE=DATE:20250526
DTSTAMP:20260425T213823
CREATED:20250611T202428Z
LAST-MODIFIED:20251127T120054Z
UID:2119-1748131200-1748217599@laurentstephan.fr
SUMMARY:Stage "Chant géorgien"
DESCRIPTION:Atelier de 4 heures de chant géorgie
URL:https://laurentstephan.fr/calendrier/chant-georgien/
LOCATION:Hanovre\, Allemagne\, Alte Grammophonfabrik\, Edwin-Oppler-Weg 5\, 30167
ORGANIZER;CN="Laurent St%C3%A9phan":MAILTO:laurent_stephan@yahoo.fr
END:VEVENT
END:VCALENDAR